BEGIN:VCALENDAR
VERSION:2.0
PRODID:-//wp-events-plugin.com//7.2.3.1//EN
TZID:Europe/Berlin
X-WR-TIMEZONE:Europe/Berlin
BEGIN:VEVENT
UID:151@mobile-goldschmiedekurse.de
DTSTART:20140315T080000Z
DTEND:20140315T120000Z
DTSTAMP:20140227T123829Z
URL:https://www.mobile-goldschmiedekurse.de/kurstermine/kreuze-schmieden-i
 n-der-firmvorbereitung-in-dorsten/
SUMMARY:Kreuze schmieden in der Firmvorbereitung in Dorsten
DESCRIPTION:In diesem Kurs haben Jugendliche in der Vorbereitung auf das Sa
 krament der Firmung  die Möglichkeit ein persönliches\, individuelles S
 ilberkreuz zu schmieden.\n\nKurszeit:   10:00 - 14:00 Uhr\n\nDie Anmeldu
 ng erfolgt direkt über die Gemeinde.
CATEGORIES:Schmieden in der Gemeinde
LOCATION:Kirchengemeinde St. Agatha Dorsten\, An der Vehme 3\, Dorsten\, 46
 282\, Deutschland
GEO:51.660912;6.966700
X-APPLE-STRUCTURED-LOCATION;VALUE=URI;X-ADDRESS=An der Vehme 3\, Dorsten\, 
 46282\, Deutschland;X-APPLE-RADIUS=100;X-TITLE=Kirchengemeinde St. Agatha 
 Dorsten:geo:51.660912,6.966700
END:VEVENT
END:VCALENDAR