BEGIN:VCALENDAR
VERSION:2.0
PRODID:-//wp-events-plugin.com//7.2.3.1//EN
TZID:Europe/Berlin
X-WR-TIMEZONE:Europe/Berlin
BEGIN:VEVENT
UID:1057@mobile-goldschmiedekurse.de
DTSTART:20261129T090000Z
DTEND:20261129T130000Z
DTSTAMP:20260416T102020Z
URL:https://www.mobile-goldschmiedekurse.de/kurstermine/goldschmiede-kompa
 ktkurs-in-der-vhs-waltrop-8/
SUMMARY:Goldschmiede-Kompaktkurs in der VHS Waltrop
DESCRIPTION:Zu diesem Kursangebot melden Sie sich bitte direkt bei der VHS 
 Waltrop an.
ATTACH;FMTTYPE=image/jpeg:https://www.mobile-goldschmiedekurse.de/wp-conte
 nt/uploads/2025/09/vhs-waltrop.gif
CATEGORIES:Erwachsenenkurse
LOCATION:Volkshochschule Waltrop\, Ziegeleistraße 14\, Waltrop\, Nordrhein
 -Westfalen\, 45731\, Ruhrgebiet\, Deutschland
GEO:51.62571860000001;7.3960892999999714
X-APPLE-STRUCTURED-LOCATION;VALUE=URI;X-ADDRESS=Ziegeleistraße 14\, Waltro
 p\, Nordrhein-Westfalen\, 45731\, Ruhrgebiet\, Deutschland;X-APPLE-RADIUS=
 100;X-TITLE=Volkshochschule Waltrop:geo:51.62571860000001,7.39608929999997
 14
END:VEVENT
END:VCALENDAR