BEGIN:VCALENDAR
VERSION:2.0
PRODID:-//wp-events-plugin.com//7.2.3.1//EN
TZID:Europe/Berlin
X-WR-TIMEZONE:Europe/Berlin
BEGIN:VEVENT
UID:1023@mobile-goldschmiedekurse.de
DTSTART:20260609T150000Z
DTEND:20260609T190000Z
DTSTAMP:20251117T104832Z
URL:https://www.mobile-goldschmiedekurse.de/kurstermine/goldschmiede-kompa
 ktkurs-in-der-vhs-soest-12/
SUMMARY:Goldschmiede-Kompaktkurs in der VHS Soest
DESCRIPTION:Kursort:\n\nSekundarschule Pavillion\n\nRaum 2\n\nMüllingser W
 eg 31\n\n59494 Soest\n\n&nbsp\;\n\nTauchen auch Sie ein in das Kunsthandwe
 rk des Gold- und Silberschmieds und entwerfen Sie Ihren eigenen Schmuck. U
 nter der professionellen Anleitung der Goldschmiedemeisterin Katja Osterho
 ff-Genz aus Haltern am See erlernen Sie die Grundtechniken dieses Handwerk
 s wie das Sägen\, Feilen\, Punzieren\, Schmirgeln\, Polieren\, Ziselieren
  u. v. m.\nIn diesem Kompaktkurs werden Sie in 4 Zeitstunden ein eigenes S
 chmuckstück schmieden. Ob es ein ausgefallener Ring\, ein Kettenanhänger
 \, ein Kreuz oder einzigartige Ohrringe sind. In allen Fällen ist es ein 
 Unikat - gefertigt in Ihren Händen. Die Einführung in die verschiedenen 
 Oberflächenbearbeitungen gibt die Möglichkeit der persönlichen\, indivi
 duellen Note jedes Schmuckteiles.\n\nSchmuckreparaturen oder –umarbeitun
 gen können aus zeitlichen Gründen nicht vorgenommen werden.\n\nDie Verwe
 ndung von eigenem Rohmaterial ist in diesen Kursen nicht möglich.\n\nFür
  Gruppen ab 10 Teilnehmer können Sie mit der VHS flexible Termine vereinb
 aren.\n\nWeitere Informationen finden Sie auch unter: www.mobile-goldschmi
 edekurse.de\nDie individuellen Materialkosten (in Silber zwischen 30-80 
 €) sowie eine Werkzeugumlage von 10 € sind direkt am Kursende bar oder
  per Karte zu begleichen.\n\n&nbsp\;
ATTACH;FMTTYPE=image/jpeg:https://www.mobile-goldschmiedekurse.de/wp-conte
 nt/uploads/2017/01/VHS-Soest-Logo-11-2025.png
CATEGORIES:Erwachsenenkurse,Kinder- und Jugendkurse
LOCATION:Volkshochschule Soest\, Nöttenstraße 29\, Soest\, Nordrhein-West
 falen\, 59494\, Ostwestfalen\, Deutschland
X-APPLE-STRUCTURED-LOCATION;VALUE=URI;X-ADDRESS=Nöttenstraße 29\, Soest\,
  Nordrhein-Westfalen\, 59494\, Ostwestfalen\, Deutschland;X-APPLE-RADIUS=1
 00;X-TITLE=Volkshochschule Soest:geo:0,0
END:VEVENT
END:VCALENDAR