BEGIN:VCALENDAR
VERSION:2.0
PRODID:-//wp-events-plugin.com//7.2.3.1//EN
TZID:Europe/Berlin
X-WR-TIMEZONE:Europe/Berlin
BEGIN:VEVENT
UID:484@mobile-goldschmiedekurse.de
DTSTART:20180313T150000Z
DTEND:20180313T190000Z
DTSTAMP:20170920T094156Z
URL:https://www.mobile-goldschmiedekurse.de/kurstermine/goldschmiede-kompa
 ktkurs-in-der-vhs-in-hamm-4/
SUMMARY:Goldschmiede-Kompaktkurs in der VHS in Hamm
DESCRIPTION:Tauchen auch Sie ein in das Kunsthandwerk des Gold- und Silbers
 chmieds und entwerfen Sie Ihren eigenen Schmuck. Unter der professionellen
  Anleitung der Goldschmiedemeisterin Katja Osterhoff-Genz aus Haltern am
  See erlernen Sie die Grundtechniken dieses Handwerks wie das Sägen\, Fei
 len\, Löten\, Punzieren\, Schmirgeln\, Polieren\, Ziselieren u. v. m.\nIn
  diesem Kompaktkurs werden Sie in 4 Zeitstunden ein eigenes Schmuckstück 
 schmieden. Ob es ein ausgefallener Ring\, ein Kettenanhänger\, ein Kreuz 
 oder einzigartige Ohrringe sind. In allen Fällen ist es ein Unikat - gefe
 rtigt in Ihren Händen. Die Einführung in die verschiedenen Oberflächenb
 earbeitungen gibt die Möglichkeit der persönlichen\, individuellen Note 
 jedes Schmuckteiles.\nSchmuckreparaturen oder –umarbeitungen können aus
  zeitlichen Gründen nicht vorgenommen werden.\nFür Gruppen ab 10 Teilneh
 mer können Sie mit der VHS flexible Termine vereinbaren.\n\nDie individue
 llen Materialkosten (in Silber zwischen 30-80 €) sowie eine Werkzeugumla
 ge von 10 € sind direkt am Kursende zu begleichen
LOCATION:Volkshochschule Hamm\, Platz der Deutschen Einheit 1\, Hamm\, Nord
 rhein-Westfalen\, 59065\, Deutschland
GEO:51.678058;7.810173
X-APPLE-STRUCTURED-LOCATION;VALUE=URI;X-ADDRESS=Platz der Deutschen Einheit
  1\, Hamm\, Nordrhein-Westfalen\, 59065\, Deutschland;X-APPLE-RADIUS=100;X
 -TITLE=Volkshochschule Hamm:geo:51.678058,7.810173
END:VEVENT
END:VCALENDAR